BEGIN:VCALENDAR
VERSION:2.0
PRODID:-//Granite Park - ECPv6.15.20//NONSGML v1.0//EN
CALSCALE:GREGORIAN
METHOD:PUBLISH
X-WR-CALNAME:Granite Park
X-ORIGINAL-URL:https://www.granitepark.com
X-WR-CALDESC:Events for Granite Park
REFRESH-INTERVAL;VALUE=DURATION:PT1H
X-Robots-Tag:noindex
X-PUBLISHED-TTL:PT1H
BEGIN:VTIMEZONE
TZID:America/Chicago
BEGIN:DAYLIGHT
TZOFFSETFROM:-0600
TZOFFSETTO:-0500
TZNAME:CDT
DTSTART:20250309T080000
END:DAYLIGHT
BEGIN:STANDARD
TZOFFSETFROM:-0500
TZOFFSETTO:-0600
TZNAME:CST
DTSTART:20251102T070000
END:STANDARD
BEGIN:DAYLIGHT
TZOFFSETFROM:-0600
TZOFFSETTO:-0500
TZNAME:CDT
DTSTART:20260308T080000
END:DAYLIGHT
BEGIN:STANDARD
TZOFFSETFROM:-0500
TZOFFSETTO:-0600
TZNAME:CST
DTSTART:20261101T070000
END:STANDARD
BEGIN:DAYLIGHT
TZOFFSETFROM:-0600
TZOFFSETTO:-0500
TZNAME:CDT
DTSTART:20270314T080000
END:DAYLIGHT
BEGIN:STANDARD
TZOFFSETFROM:-0500
TZOFFSETTO:-0600
TZNAME:CST
DTSTART:20271107T070000
END:STANDARD
END:VTIMEZONE
BEGIN:VEVENT
DTSTART;TZID=America/Chicago:20260517T110000
DTEND;TZID=America/Chicago:20260517T150000
DTSTAMP:20260423T230035
CREATED:20260423T193452Z
LAST-MODIFIED:20260423T193452Z
UID:10000663-1779015600-1779030000@www.granitepark.com
SUMMARY:Sunday Brunch Market at The Boardwalk
DESCRIPTION:Meet up at The Boardwalk for brunch and stroll the monthly Sunday market hosted by Lively Local Markets. The Market is an artisan market featuring curated local artisans and makers\, lawn games\, and plenty of waterfront seating at our restaurants to relax and enjoy the day.\n\nThe Market is open to the public and scheduled from 11 a.m. to 3 p.m. Parking is free at The Boardwalk’s surface parking lots and the Granite Park 3 Parking Garage.
URL:https://www.granitepark.com/event/sunday-brunch-market-at-the-boardwalk/
CATEGORIES:Boardwalk
END:VEVENT
BEGIN:VEVENT
DTSTART;TZID=America/Chicago:20260612T180000
DTEND;TZID=America/Chicago:20260612T220000
DTSTAMP:20260423T230035
CREATED:20260423T194410Z
LAST-MODIFIED:20260423T194739Z
UID:10000668-1781287200-1781301600@www.granitepark.com
SUMMARY:Friday Night Market at The Boardwalk
DESCRIPTION:The Boardwalk artisan markets feature curated local artisans and makers\, lawn games\, and plenty of waterfront seating at our restaurants.  Enjoy music by DJ Kiks while you explore our night market from 6:00 p.m. to 10:00 p.m. \nPlan to dine at one of our onsite restaurants\, including Blue Mesa\, Union Bear Brewing Co.\, Suburban Yacht Club\, Seager & Sons\, Flamant\, Chip’s Old Fashioned Hamburgers\, and I Scream Gelato. Stay for a leisurely evening as you sip your favorite beverages and stroll through the market to discover unique and handmade items from local artisans and makers. \nOur Night Markets are designed to offer a fun\, relaxed atmosphere where friends and families can enjoy local craftsmanship\, great food\, and entertainment. Our oasis is conveniently located on the southeast corner of the Dallas North Tollway and Sam Rayburn Tollway\, with ample free parking.
URL:https://www.granitepark.com/event/friday-night-market-at-the-boardwalk/2026-06-12/
CATEGORIES:Boardwalk
END:VEVENT
BEGIN:VEVENT
DTSTART;TZID=America/Chicago:20260626T180000
DTEND;TZID=America/Chicago:20260626T220000
DTSTAMP:20260423T230035
CREATED:20260423T194410Z
LAST-MODIFIED:20260423T194739Z
UID:10000669-1782496800-1782511200@www.granitepark.com
SUMMARY:Friday Night Market at The Boardwalk
DESCRIPTION:The Boardwalk artisan markets feature curated local artisans and makers\, lawn games\, and plenty of waterfront seating at our restaurants.  Enjoy music by DJ Kiks while you explore our night market from 6:00 p.m. to 10:00 p.m. \nPlan to dine at one of our onsite restaurants\, including Blue Mesa\, Union Bear Brewing Co.\, Suburban Yacht Club\, Seager & Sons\, Flamant\, Chip’s Old Fashioned Hamburgers\, and I Scream Gelato. Stay for a leisurely evening as you sip your favorite beverages and stroll through the market to discover unique and handmade items from local artisans and makers. \nOur Night Markets are designed to offer a fun\, relaxed atmosphere where friends and families can enjoy local craftsmanship\, great food\, and entertainment. Our oasis is conveniently located on the southeast corner of the Dallas North Tollway and Sam Rayburn Tollway\, with ample free parking.
URL:https://www.granitepark.com/event/friday-night-market-at-the-boardwalk/2026-06-26/
CATEGORIES:Boardwalk
END:VEVENT
BEGIN:VEVENT
DTSTART;TZID=America/Chicago:20260710T180000
DTEND;TZID=America/Chicago:20260710T220000
DTSTAMP:20260423T230035
CREATED:20260423T194410Z
LAST-MODIFIED:20260423T194739Z
UID:10000670-1783706400-1783720800@www.granitepark.com
SUMMARY:Friday Night Market at The Boardwalk
DESCRIPTION:The Boardwalk artisan markets feature curated local artisans and makers\, lawn games\, and plenty of waterfront seating at our restaurants.  Enjoy music by DJ Kiks while you explore our night market from 6:00 p.m. to 10:00 p.m. \nPlan to dine at one of our onsite restaurants\, including Blue Mesa\, Union Bear Brewing Co.\, Suburban Yacht Club\, Seager & Sons\, Flamant\, Chip’s Old Fashioned Hamburgers\, and I Scream Gelato. Stay for a leisurely evening as you sip your favorite beverages and stroll through the market to discover unique and handmade items from local artisans and makers. \nOur Night Markets are designed to offer a fun\, relaxed atmosphere where friends and families can enjoy local craftsmanship\, great food\, and entertainment. Our oasis is conveniently located on the southeast corner of the Dallas North Tollway and Sam Rayburn Tollway\, with ample free parking.
URL:https://www.granitepark.com/event/friday-night-market-at-the-boardwalk/2026-07-10/
CATEGORIES:Boardwalk
END:VEVENT
BEGIN:VEVENT
DTSTART;TZID=America/Chicago:20260724T180000
DTEND;TZID=America/Chicago:20260724T220000
DTSTAMP:20260423T230035
CREATED:20260423T194410Z
LAST-MODIFIED:20260423T194739Z
UID:10000671-1784916000-1784930400@www.granitepark.com
SUMMARY:Friday Night Market at The Boardwalk
DESCRIPTION:The Boardwalk artisan markets feature curated local artisans and makers\, lawn games\, and plenty of waterfront seating at our restaurants.  Enjoy music by DJ Kiks while you explore our night market from 6:00 p.m. to 10:00 p.m. \nPlan to dine at one of our onsite restaurants\, including Blue Mesa\, Union Bear Brewing Co.\, Suburban Yacht Club\, Seager & Sons\, Flamant\, Chip’s Old Fashioned Hamburgers\, and I Scream Gelato. Stay for a leisurely evening as you sip your favorite beverages and stroll through the market to discover unique and handmade items from local artisans and makers. \nOur Night Markets are designed to offer a fun\, relaxed atmosphere where friends and families can enjoy local craftsmanship\, great food\, and entertainment. Our oasis is conveniently located on the southeast corner of the Dallas North Tollway and Sam Rayburn Tollway\, with ample free parking.
URL:https://www.granitepark.com/event/friday-night-market-at-the-boardwalk/2026-07-24/
CATEGORIES:Boardwalk
END:VEVENT
BEGIN:VEVENT
DTSTART;TZID=America/Chicago:20260807T180000
DTEND;TZID=America/Chicago:20260807T220000
DTSTAMP:20260423T230035
CREATED:20260423T194410Z
LAST-MODIFIED:20260423T194739Z
UID:10000672-1786125600-1786140000@www.granitepark.com
SUMMARY:Friday Night Market at The Boardwalk
DESCRIPTION:The Boardwalk artisan markets feature curated local artisans and makers\, lawn games\, and plenty of waterfront seating at our restaurants.  Enjoy music by DJ Kiks while you explore our night market from 6:00 p.m. to 10:00 p.m. \nPlan to dine at one of our onsite restaurants\, including Blue Mesa\, Union Bear Brewing Co.\, Suburban Yacht Club\, Seager & Sons\, Flamant\, Chip’s Old Fashioned Hamburgers\, and I Scream Gelato. Stay for a leisurely evening as you sip your favorite beverages and stroll through the market to discover unique and handmade items from local artisans and makers. \nOur Night Markets are designed to offer a fun\, relaxed atmosphere where friends and families can enjoy local craftsmanship\, great food\, and entertainment. Our oasis is conveniently located on the southeast corner of the Dallas North Tollway and Sam Rayburn Tollway\, with ample free parking.
URL:https://www.granitepark.com/event/friday-night-market-at-the-boardwalk/2026-08-07/
CATEGORIES:Boardwalk
END:VEVENT
BEGIN:VEVENT
DTSTART;TZID=America/Chicago:20260821T180000
DTEND;TZID=America/Chicago:20260821T220000
DTSTAMP:20260423T230035
CREATED:20260423T194410Z
LAST-MODIFIED:20260423T194739Z
UID:10000673-1787335200-1787349600@www.granitepark.com
SUMMARY:Friday Night Market at The Boardwalk
DESCRIPTION:The Boardwalk artisan markets feature curated local artisans and makers\, lawn games\, and plenty of waterfront seating at our restaurants.  Enjoy music by DJ Kiks while you explore our night market from 6:00 p.m. to 10:00 p.m. \nPlan to dine at one of our onsite restaurants\, including Blue Mesa\, Union Bear Brewing Co.\, Suburban Yacht Club\, Seager & Sons\, Flamant\, Chip’s Old Fashioned Hamburgers\, and I Scream Gelato. Stay for a leisurely evening as you sip your favorite beverages and stroll through the market to discover unique and handmade items from local artisans and makers. \nOur Night Markets are designed to offer a fun\, relaxed atmosphere where friends and families can enjoy local craftsmanship\, great food\, and entertainment. Our oasis is conveniently located on the southeast corner of the Dallas North Tollway and Sam Rayburn Tollway\, with ample free parking.
URL:https://www.granitepark.com/event/friday-night-market-at-the-boardwalk/2026-08-21/
CATEGORIES:Boardwalk
END:VEVENT
BEGIN:VEVENT
DTSTART;TZID=America/Chicago:20260911T180000
DTEND;TZID=America/Chicago:20260911T220000
DTSTAMP:20260423T230035
CREATED:20260423T194410Z
LAST-MODIFIED:20260423T194739Z
UID:10000674-1789149600-1789164000@www.granitepark.com
SUMMARY:Friday Night Market at The Boardwalk
DESCRIPTION:The Boardwalk artisan markets feature curated local artisans and makers\, lawn games\, and plenty of waterfront seating at our restaurants.  Enjoy music by DJ Kiks while you explore our night market from 6:00 p.m. to 10:00 p.m. \nPlan to dine at one of our onsite restaurants\, including Blue Mesa\, Union Bear Brewing Co.\, Suburban Yacht Club\, Seager & Sons\, Flamant\, Chip’s Old Fashioned Hamburgers\, and I Scream Gelato. Stay for a leisurely evening as you sip your favorite beverages and stroll through the market to discover unique and handmade items from local artisans and makers. \nOur Night Markets are designed to offer a fun\, relaxed atmosphere where friends and families can enjoy local craftsmanship\, great food\, and entertainment. Our oasis is conveniently located on the southeast corner of the Dallas North Tollway and Sam Rayburn Tollway\, with ample free parking.
URL:https://www.granitepark.com/event/friday-night-market-at-the-boardwalk/2026-09-11/
CATEGORIES:Boardwalk
END:VEVENT
BEGIN:VEVENT
DTSTART;TZID=America/Chicago:20260925T180000
DTEND;TZID=America/Chicago:20260925T220000
DTSTAMP:20260423T230035
CREATED:20260423T194410Z
LAST-MODIFIED:20260423T194739Z
UID:10000675-1790359200-1790373600@www.granitepark.com
SUMMARY:Friday Night Market at The Boardwalk
DESCRIPTION:The Boardwalk artisan markets feature curated local artisans and makers\, lawn games\, and plenty of waterfront seating at our restaurants.  Enjoy music by DJ Kiks while you explore our night market from 6:00 p.m. to 10:00 p.m. \nPlan to dine at one of our onsite restaurants\, including Blue Mesa\, Union Bear Brewing Co.\, Suburban Yacht Club\, Seager & Sons\, Flamant\, Chip’s Old Fashioned Hamburgers\, and I Scream Gelato. Stay for a leisurely evening as you sip your favorite beverages and stroll through the market to discover unique and handmade items from local artisans and makers. \nOur Night Markets are designed to offer a fun\, relaxed atmosphere where friends and families can enjoy local craftsmanship\, great food\, and entertainment. Our oasis is conveniently located on the southeast corner of the Dallas North Tollway and Sam Rayburn Tollway\, with ample free parking.
URL:https://www.granitepark.com/event/friday-night-market-at-the-boardwalk/2026-09-25/
CATEGORIES:Boardwalk
END:VEVENT
BEGIN:VEVENT
DTSTART;TZID=America/Chicago:20261009T180000
DTEND;TZID=America/Chicago:20261009T220000
DTSTAMP:20260423T230035
CREATED:20260423T194410Z
LAST-MODIFIED:20260423T194739Z
UID:10000676-1791568800-1791583200@www.granitepark.com
SUMMARY:Friday Night Market at The Boardwalk
DESCRIPTION:The Boardwalk artisan markets feature curated local artisans and makers\, lawn games\, and plenty of waterfront seating at our restaurants.  Enjoy music by DJ Kiks while you explore our night market from 6:00 p.m. to 10:00 p.m. \nPlan to dine at one of our onsite restaurants\, including Blue Mesa\, Union Bear Brewing Co.\, Suburban Yacht Club\, Seager & Sons\, Flamant\, Chip’s Old Fashioned Hamburgers\, and I Scream Gelato. Stay for a leisurely evening as you sip your favorite beverages and stroll through the market to discover unique and handmade items from local artisans and makers. \nOur Night Markets are designed to offer a fun\, relaxed atmosphere where friends and families can enjoy local craftsmanship\, great food\, and entertainment. Our oasis is conveniently located on the southeast corner of the Dallas North Tollway and Sam Rayburn Tollway\, with ample free parking.
URL:https://www.granitepark.com/event/friday-night-market-at-the-boardwalk/2026-10-09/
CATEGORIES:Boardwalk
END:VEVENT
BEGIN:VEVENT
DTSTART;TZID=America/Chicago:20261018T110000
DTEND;TZID=America/Chicago:20261018T150000
DTSTAMP:20260423T230035
CREATED:20260423T193538Z
LAST-MODIFIED:20260423T193538Z
UID:10000664-1792321200-1792335600@www.granitepark.com
SUMMARY:Sunday Brunch Market at The Boardwalk
DESCRIPTION:Meet up at The Boardwalk for brunch and stroll the monthly Sunday market hosted by Lively Local Markets. The Market is an artisan market featuring curated local artisans and makers\, lawn games\, and plenty of waterfront seating at our restaurants to relax and enjoy the day.\n\nThe Market is open to the public and scheduled from 11 a.m. to 3 p.m. Parking is free at The Boardwalk’s surface parking lots and the Granite Park 3 Parking Garage.
URL:https://www.granitepark.com/event/sunday-brunch-market-at-the-boardwalk-2/
CATEGORIES:Boardwalk
END:VEVENT
BEGIN:VEVENT
DTSTART;TZID=America/Chicago:20261031T173000
DTEND;TZID=America/Chicago:20261031T203000
DTSTAMP:20260423T230035
CREATED:20260423T193231Z
LAST-MODIFIED:20260423T193231Z
UID:10000662-1793467800-1793478600@www.granitepark.com
SUMMARY:BOO on The Boardwalk
DESCRIPTION:This Halloween\, skip the neighborhood door knocking and join us at The Boardwalk for Boo on The Boardwalk on Saturday\, October 31\, from 5:30–8:30 p.m.\, trick-or-treat your way through our restaurants and enjoy a night full of fun at this free event.\n🎵DJ KIKS spinning live music\n📸Halloween & fall photo ops\n👾Games with prizes\n✨Glitter tattoos\n🎈Ostaf the Scarecrow balloon artist\n💀Kids’ activity \nMark your calendar and bring the whole family for a Halloween evening you won’t forget.
URL:https://www.granitepark.com/event/boo-on-the-boardwalk-2/
CATEGORIES:Boardwalk
ATTACH;FMTTYPE=image/jpeg:https://www.granitepark.com/wp-content/uploads/2025/10/TBW-halloween.jpg
END:VEVENT
BEGIN:VEVENT
DTSTART;TZID=America/Chicago:20261115T110000
DTEND;TZID=America/Chicago:20261115T150000
DTSTAMP:20260423T230035
CREATED:20260423T193602Z
LAST-MODIFIED:20260423T193602Z
UID:10000665-1794740400-1794754800@www.granitepark.com
SUMMARY:Sunday Brunch Market at The Boardwalk
DESCRIPTION:Meet up at The Boardwalk for brunch and stroll the monthly Sunday market hosted by Lively Local Markets. The Market is an artisan market featuring curated local artisans and makers\, lawn games\, and plenty of waterfront seating at our restaurants to relax and enjoy the day.\n\nThe Market is open to the public and scheduled from 11 a.m. to 3 p.m. Parking is free at The Boardwalk’s surface parking lots and the Granite Park 3 Parking Garage.
URL:https://www.granitepark.com/event/sunday-brunch-market-at-the-boardwalk-3/
CATEGORIES:Boardwalk
END:VEVENT
BEGIN:VEVENT
DTSTART;TZID=America/Chicago:20261213T110000
DTEND;TZID=America/Chicago:20261213T150000
DTSTAMP:20260423T230035
CREATED:20260423T193726Z
LAST-MODIFIED:20260423T193726Z
UID:10000666-1797159600-1797174000@www.granitepark.com
SUMMARY:Santa's Sleighin' Holiday Event and Market at The Boardwalk
DESCRIPTION:Get ready for Santa’s Sleighin’ Holiday Event and Market at The Boardwalk! Mark your calendars for Sunday\, December 13\, as we prepare for the most festive event of the season. \nJoin us from 11:00 a.m. to 3:00 p.m. to immerse yourself in the holiday spirit and support local small businesses at our holiday market\, organized by Lively Local Markets. The excitement really kicks off at 12:00 p.m. when our holiday extravaganza begins! \nSanta\, Frosty the Snowman\, and a Snow Princess will be at The Boardwalk. Santa’s elves will provide holiday glitter tattoos\, and there will be interactive games with prizes\, a candy cane-making demonstration by Pappabubble\, and a fun kids’ activity station. \nDon’t miss the holiday-themed drinks and bites available at Suburban Yacht Club’s Holiday Pop-up and seasonal cocktails at Union Bear Brewing Co. Treat yourself to brunch at Flamant\, Blue Mesa Grill\, Seagers & Sons\, Chips Old Fashioned Hamburgers\, or enjoy dessert from I Scream Gelato. Join us for a holly jolly time; there’s truly no place like The Boardwalk for the holidays! \nPlease note that by attending events and posing for photos\, you grant Granite Properties permission to use your image in any media promoting The Boardwalk and/or Granite Properties.
URL:https://www.granitepark.com/event/santas-sleighin-holiday-event-and-market-at-the-boardwalk-3/
LOCATION:The Boardwalk at Granite Park\, 5880 State Hwy 121\, Plano\, TX\, 75024\, United States
CATEGORIES:Boardwalk
ATTACH;FMTTYPE=image/jpeg:https://www.granitepark.com/wp-content/uploads/2024/12/TBW-Holida-Event.jpg
END:VEVENT
END:VCALENDAR